BEGIN:VCALENDAR
VERSION:2.0
PRODID:-//NMMI Alumni - ECPv6.15.17.1//NONSGML v1.0//EN
CALSCALE:GREGORIAN
METHOD:PUBLISH
X-ORIGINAL-URL:https://alumni.nmmi.edu
X-WR-CALDESC:Events for NMMI Alumni
REFRESH-INTERVAL;VALUE=DURATION:PT1H
X-Robots-Tag:noindex
X-PUBLISHED-TTL:PT1H
BEGIN:VTIMEZONE
TZID:UTC
BEGIN:STANDARD
TZOFFSETFROM:+0000
TZOFFSETTO:+0000
TZNAME:UTC
DTSTART:20210101T000000
END:STANDARD
END:VTIMEZONE
BEGIN:VEVENT
DTSTART;VALUE=DATE:20220122
DTEND;VALUE=DATE:20220123
DTSTAMP:20260421T040211
CREATED:20211118T231539Z
LAST-MODIFIED:20211118T231826Z
UID:28063-1642809600-1642895999@alumni.nmmi.edu
SUMMARY:Las Cruces Meet n' Greet
DESCRIPTION:
URL:https://alumni.nmmi.edu/event/las-cruces-meet-n-greet/
LOCATION:TBD
CATEGORIES:Get Togethers, Conference Calls and More! (Tattoos)
ORGANIZER;CN="NMMI Alumni Office":MAILTO:alm_pub@nmmi.edu
END:VEVENT
END:VCALENDAR